Package: CNVPanelizer Version: 1.36.0 Command: /Library/Frameworks/R.framework/Resources/bin/R CMD check --install=check:CNVPanelizer.install-out.txt --library=/Library/Frameworks/R.framework/Resources/library --no-vignettes --timings CNVPanelizer_1.36.0.tar.gz StartedAt: 2024-06-09 19:32:26 -0400 (Sun, 09 Jun 2024) EndedAt: 2024-06-09 19:35:43 -0400 (Sun, 09 Jun 2024) EllapsedTime: 197.0 seconds RetCode: 0 Status: OK CheckDir: CNVPanelizer.Rcheck Warnings: 0