Package: CNVPanelizer Version: 1.36.0 Command: /Library/Frameworks/R.framework/Resources/bin/R CMD build --keep-empty-dirs --no-resave-data CNVPanelizer StartedAt: 2024-06-09 16:14:52 -0400 (Sun, 09 Jun 2024) EndedAt: 2024-06-09 16:16:21 -0400 (Sun, 09 Jun 2024) EllapsedTime: 88.9 seconds RetCode: 0 Status: OK PackageFile: CNVPanelizer_1.36.0.tar.gz PackageFileSize: 363.2 KiB