Package: CNVPanelizer Version: 1.36.0 Command: /home/biocbuild/R/R-beta-2024-04-15_r86425/bin/R CMD check --install=check:CNVPanelizer.install-out.txt --library=/home/biocbuild/R/R-beta-2024-04-15_r86425/site-library --no-vignettes --timings CNVPanelizer_1.36.0.tar.gz StartedAt: 2024-05-09 06:01:50 -0000 (Thu, 09 May 2024) EndedAt: 2024-05-09 06:05:36 -0000 (Thu, 09 May 2024) EllapsedTime: 226.4 seconds RetCode: 0 Status: OK CheckDir: CNVPanelizer.Rcheck Warnings: 0