Package: CNVPanelizer Version: 1.36.0 Command: /home/biocbuild/R/R-beta-2024-04-15_r86425/bin/R CMD build --keep-empty-dirs --no-resave-data CNVPanelizer StartedAt: 2024-05-08 23:25:55 -0000 (Wed, 08 May 2024) EndedAt: 2024-05-08 23:27:51 -0000 (Wed, 08 May 2024) EllapsedTime: 115.2 seconds RetCode: 0 Status: OK PackageFile: CNVPanelizer_1.36.0.tar.gz PackageFileSize: 357.3 KiB