Package: CNVPanelizer Version: 1.36.0 Command: /Library/Frameworks/R.framework/Resources/bin/R CMD build --keep-empty-dirs --no-resave-data CNVPanelizer StartedAt: 2024-06-09 19:43:34 -0400 (Sun, 09 Jun 2024) EndedAt: 2024-06-09 19:45:14 -0400 (Sun, 09 Jun 2024) EllapsedTime: 99.4 seconds RetCode: 0 Status: OK PackageFile: CNVPanelizer_1.36.0.tar.gz PackageFileSize: 363.2 KiB