Package: CNVMetrics Version: 1.8.0 Command: chmod a+r CNVMetrics -R && E:\biocbuild\bbs-3.19-bioc\R\bin\R.exe CMD build --keep-empty-dirs --no-resave-data CNVMetrics StartedAt: 2024-10-16 18:18:11 -0400 (Wed, 16 Oct 2024) EndedAt: 2024-10-16 18:19:01 -0400 (Wed, 16 Oct 2024) EllapsedTime: 50.4 seconds RetCode: 0 Status: OK PackageFile: CNVMetrics_1.8.0.tar.gz PackageFileSize: 4.499 MiB