Package: CNVMetrics Version: 1.8.0 Command: rm -rf CNVMetrics.buildbin-libdir && mkdir CNVMetrics.buildbin-libdir && E:\biocbuild\bbs-3.19-bioc\R\bin\R.exe CMD INSTALL --build --library=CNVMetrics.buildbin-libdir CNVMetrics_1.8.0.tar.gz StartedAt: 2024-10-17 07:34:15 -0400 (Thu, 17 Oct 2024) EndedAt: 2024-10-17 07:34:34 -0400 (Thu, 17 Oct 2024) EllapsedTime: 18.5 seconds RetCode: 0 Status: OK PackageFile: CNVMetrics_1.8.0.zip PackageFileSize: 2.511 MiB