Package: CNVMetrics Version: 1.8.0 Command: /Library/Frameworks/R.framework/Resources/bin/R CMD INSTALL CNVMetrics StartedAt: 2024-06-09 15:45:22 -0400 (Sun, 09 Jun 2024) EndedAt: 2024-06-09 15:45:40 -0400 (Sun, 09 Jun 2024) EllapsedTime: 18.1 seconds RetCode: 0 Status: OK