Package: CNVMetrics Version: 1.8.0 Command: /Library/Frameworks/R.framework/Resources/bin/R CMD build --keep-empty-dirs --no-resave-data CNVMetrics StartedAt: 2024-10-16 21:55:29 -0400 (Wed, 16 Oct 2024) EndedAt: 2024-10-16 21:56:13 -0400 (Wed, 16 Oct 2024) EllapsedTime: 43.8 seconds RetCode: 0 Status: OK PackageFile: CNVMetrics_1.8.0.tar.gz PackageFileSize: 4.739 MiB