Package: CNVMetrics Version: 1.8.0 Maintainer: Astrid DeschĂȘnes MaintainerEmail: adeschen at hotmail.com git_url: https://git.bioconductor.org/packages/CNVMetrics git_branch: RELEASE_3_19 git_last_commit: 51b5f15 git_last_commit_date: 2024-04-30 11:39:32 -0400 (Tue, 30 Apr 2024)