Package: CNORode Version: 1.46.0 Command: E:\biocbuild\bbs-3.19-bioc\R\bin\R.exe CMD INSTALL CNORode StartedAt: 2024-10-16 16:41:58 -0400 (Wed, 16 Oct 2024) EndedAt: 2024-10-16 16:42:36 -0400 (Wed, 16 Oct 2024) EllapsedTime: 37.6 seconds RetCode: 0 Status: OK