Package: CNORode Version: 1.46.0 Command: rm -rf CNORode.buildbin-libdir && mkdir CNORode.buildbin-libdir && E:\biocbuild\bbs-3.19-bioc\R\bin\R.exe CMD INSTALL --build --library=CNORode.buildbin-libdir CNORode_1.46.0.tar.gz StartedAt: 2024-10-17 07:34:03 -0400 (Thu, 17 Oct 2024) EndedAt: 2024-10-17 07:34:42 -0400 (Thu, 17 Oct 2024) EllapsedTime: 39.4 seconds RetCode: 0 Status: OK PackageFile: CNORode_1.46.0.zip PackageFileSize: 304.3 KiB