Package: CNORode Version: 1.46.0 Command: /home/biocbuild/bbs-3.19-bioc/R/bin/R CMD build --keep-empty-dirs --no-resave-data CNORode StartedAt: 2024-10-16 17:52:34 -0400 (Wed, 16 Oct 2024) EndedAt: 2024-10-16 17:53:04 -0400 (Wed, 16 Oct 2024) EllapsedTime: 30.1 seconds RetCode: 0 Status: OK PackageFile: CNORode_1.46.0.tar.gz PackageFileSize: 478.5 KiB