Package: CNORode Version: 1.46.0 Command: /Library/Frameworks/R.framework/Resources/bin/R CMD INSTALL CNORode StartedAt: 2024-10-16 15:58:18 -0400 (Wed, 16 Oct 2024) EndedAt: 2024-10-16 15:58:56 -0400 (Wed, 16 Oct 2024) EllapsedTime: 38.2 seconds RetCode: 0 Status: OK