Package: CNORode Version: 1.46.0 Command: /home/biocbuild/R/R-beta-2024-04-15_r86425/bin/R CMD build --keep-empty-dirs --no-resave-data CNORode StartedAt: 2024-05-08 23:25:15 -0000 (Wed, 08 May 2024) EndedAt: 2024-05-08 23:25:58 -0000 (Wed, 08 May 2024) EllapsedTime: 43.1 seconds RetCode: 0 Status: OK PackageFile: CNORode_1.46.0.tar.gz PackageFileSize: 407.3 KiB