Package: CNORode Version: 1.46.0 Command: /Library/Frameworks/R.framework/Resources/bin/R CMD check --install=check:CNORode.install-out.txt --library=/Library/Frameworks/R.framework/Resources/library --no-vignettes --timings CNORode_1.46.0.tar.gz StartedAt: 2024-10-17 16:44:05 -0400 (Thu, 17 Oct 2024) EndedAt: 2024-10-17 16:45:34 -0400 (Thu, 17 Oct 2024) EllapsedTime: 88.4 seconds RetCode: 0 Status: WARNINGS CheckDir: CNORode.Rcheck Warnings: 2