Package: CNORode Version: 1.46.0 Command: /Library/Frameworks/R.framework/Resources/bin/R CMD build --keep-empty-dirs --no-resave-data CNORode StartedAt: 2024-10-16 21:53:46 -0400 (Wed, 16 Oct 2024) EndedAt: 2024-10-16 21:54:25 -0400 (Wed, 16 Oct 2024) EllapsedTime: 38.5 seconds RetCode: 0 Status: OK PackageFile: CNORode_1.46.0.tar.gz PackageFileSize: 518.6 KiB