Package: CNORfuzzy Version: 1.46.0 Command: chmod a+r CNORfuzzy -R && E:\biocbuild\bbs-3.19-bioc\R\bin\R.exe CMD build --keep-empty-dirs --no-resave-data CNORfuzzy StartedAt: 2024-10-16 18:17:28 -0400 (Wed, 16 Oct 2024) EndedAt: 2024-10-16 18:18:08 -0400 (Wed, 16 Oct 2024) EllapsedTime: 39.8 seconds RetCode: 0 Status: OK PackageFile: CNORfuzzy_1.46.0.tar.gz PackageFileSize: 923.4 KiB