Package: CNORfuzzy Version: 1.46.0 Command: rm -rf CNORfuzzy.buildbin-libdir && mkdir CNORfuzzy.buildbin-libdir && E:\biocbuild\bbs-3.19-bioc\R\bin\R.exe CMD INSTALL --build --library=CNORfuzzy.buildbin-libdir CNORfuzzy_1.46.0.tar.gz StartedAt: 2024-10-17 07:34:01 -0400 (Thu, 17 Oct 2024) EndedAt: 2024-10-17 07:34:20 -0400 (Thu, 17 Oct 2024) EllapsedTime: 18.5 seconds RetCode: 0 Status: OK PackageFile: CNORfuzzy_1.46.0.zip PackageFileSize: 701.7 KiB