Package: CNORfuzzy Version: 1.46.0 Command: F:\biocbuild\bbs-3.19-bioc\R\bin\R.exe CMD INSTALL CNORfuzzy StartedAt: 2024-06-26 16:17:36 -0400 (Wed, 26 Jun 2024) EndedAt: 2024-06-26 16:17:51 -0400 (Wed, 26 Jun 2024) EllapsedTime: 15.4 seconds RetCode: 0 Status: OK