Package: CNORfuzzy Version: 1.46.0 Command: rm -rf CNORfuzzy.buildbin-libdir && mkdir CNORfuzzy.buildbin-libdir && F:\biocbuild\bbs-3.19-bioc\R\bin\R.exe CMD INSTALL --build --library=CNORfuzzy.buildbin-libdir CNORfuzzy_1.46.0.tar.gz StartedAt: 2024-06-27 08:01:06 -0400 (Thu, 27 Jun 2024) EndedAt: 2024-06-27 08:01:33 -0400 (Thu, 27 Jun 2024) EllapsedTime: 27.1 seconds RetCode: 0 Status: OK PackageFile: CNORfuzzy_1.46.0.zip PackageFileSize: 701.4 KiB