Package: CNORfuzzy Version: 1.46.0 Command: /home/biocbuild/bbs-3.19-bioc/R/bin/R CMD check --install=check:CNORfuzzy.install-out.txt --library=/home/biocbuild/bbs-3.19-bioc/R/site-library --timings CNORfuzzy_1.46.0.tar.gz StartedAt: 2024-10-16 22:55:30 -0400 (Wed, 16 Oct 2024) EndedAt: 2024-10-16 22:56:45 -0400 (Wed, 16 Oct 2024) EllapsedTime: 75.1 seconds RetCode: 0 Status: OK CheckDir: CNORfuzzy.Rcheck Warnings: 0