Package: CNORfuzzy Version: 1.46.0 Command: rm -rf CNORfuzzy.buildbin-libdir && mkdir CNORfuzzy.buildbin-libdir && /Users/biocbuild/BBS/utils/build-universal.sh CNORfuzzy_1.46.0.tar.gz /Library/Frameworks/R.framework/Resources/bin/R CNORfuzzy.buildbin-libdir StartedAt: 2024-06-10 00:12:03 -0400 (Mon, 10 Jun 2024) EndedAt: 2024-06-10 00:12:19 -0400 (Mon, 10 Jun 2024) EllapsedTime: 15.7 seconds RetCode: 0 Status: OK PackageFile: CNORfuzzy_1.46.0.tgz PackageFileSize: 691.9 KiB