Package: CNORfeeder Version: 1.44.0 Command: E:\biocbuild\bbs-3.19-bioc\R\bin\R.exe CMD check --no-multiarch --install=check:CNORfeeder.install-out.txt --library=E:\biocbuild\bbs-3.19-bioc\R\library --no-vignettes --timings CNORfeeder_1.44.0.tar.gz StartedAt: 2024-10-17 00:08:55 -0400 (Thu, 17 Oct 2024) EndedAt: 2024-10-17 00:10:15 -0400 (Thu, 17 Oct 2024) EllapsedTime: 80.5 seconds RetCode: 0 Status: WARNINGS CheckDir: CNORfeeder.Rcheck Warnings: 1