Package: CNORfeeder Version: 1.44.0 Command: chmod a+r CNORfeeder -R && E:\biocbuild\bbs-3.19-bioc\R\bin\R.exe CMD build --keep-empty-dirs --no-resave-data CNORfeeder StartedAt: 2024-10-16 18:17:27 -0400 (Wed, 16 Oct 2024) EndedAt: 2024-10-16 18:17:52 -0400 (Wed, 16 Oct 2024) EllapsedTime: 25.7 seconds RetCode: 0 Status: OK PackageFile: CNORfeeder_1.44.0.tar.gz PackageFileSize: 3.297 MiB