Package: CNORfeeder Version: 1.44.0 Command: rm -rf CNORfeeder.buildbin-libdir && mkdir CNORfeeder.buildbin-libdir && F:\biocbuild\bbs-3.19-bioc\R\bin\R.exe CMD INSTALL --build --library=CNORfeeder.buildbin-libdir CNORfeeder_1.44.0.tar.gz StartedAt: 2024-06-27 08:01:04 -0400 (Thu, 27 Jun 2024) EndedAt: 2024-06-27 08:01:30 -0400 (Thu, 27 Jun 2024) EllapsedTime: 25.7 seconds RetCode: 0 Status: OK PackageFile: CNORfeeder_1.44.0.zip PackageFileSize: 1.966 MiB