Package: CNORfeeder Version: 1.44.0 Command: /Library/Frameworks/R.framework/Resources/bin/R CMD check --install=check:CNORfeeder.install-out.txt --library=/Library/Frameworks/R.framework/Resources/library --no-vignettes --timings CNORfeeder_1.44.0.tar.gz StartedAt: 2024-10-17 02:59:09 -0400 (Thu, 17 Oct 2024) EndedAt: 2024-10-17 03:02:09 -0400 (Thu, 17 Oct 2024) EllapsedTime: 179.9 seconds RetCode: 0 Status: WARNINGS CheckDir: CNORfeeder.Rcheck Warnings: 1