Package: CNORfeeder Version: 1.44.0 Command: /home/biocbuild/R/R-beta-2024-04-15_r86425/bin/R CMD INSTALL CNORfeeder StartedAt: 2024-05-08 20:34:45 -0000 (Wed, 08 May 2024) EndedAt: 2024-05-08 20:34:56 -0000 (Wed, 08 May 2024) EllapsedTime: 10.8 seconds RetCode: 0 Status: OK