Package: CNORfeeder Version: 1.44.0 Command: /home/biocbuild/R/R-beta-2024-04-15_r86425/bin/R CMD check --install=check:CNORfeeder.install-out.txt --library=/home/biocbuild/R/R-beta-2024-04-15_r86425/site-library --no-vignettes --timings CNORfeeder_1.44.0.tar.gz StartedAt: 2024-05-09 06:00:04 -0000 (Thu, 09 May 2024) EndedAt: 2024-05-09 06:01:20 -0000 (Thu, 09 May 2024) EllapsedTime: 75.1 seconds RetCode: 0 Status: WARNINGS CheckDir: CNORfeeder.Rcheck Warnings: 1