Package: CNORfeeder Version: 1.44.0 Command: /home/biocbuild/R/R-beta-2024-04-15_r86425/bin/R CMD build --keep-empty-dirs --no-resave-data CNORfeeder StartedAt: 2024-05-08 23:25:11 -0000 (Wed, 08 May 2024) EndedAt: 2024-05-08 23:25:26 -0000 (Wed, 08 May 2024) EllapsedTime: 15.0 seconds RetCode: 0 Status: OK PackageFile: CNORfeeder_1.44.0.tar.gz PackageFileSize: 3.427 MiB