Package: CNORfeeder Version: 1.44.0 Command: /Library/Frameworks/R.framework/Resources/bin/R CMD build --keep-empty-dirs --no-resave-data CNORfeeder StartedAt: 2024-10-16 21:53:14 -0400 (Wed, 16 Oct 2024) EndedAt: 2024-10-16 21:53:35 -0400 (Wed, 16 Oct 2024) EllapsedTime: 21.2 seconds RetCode: 0 Status: OK PackageFile: CNORfeeder_1.44.0.tar.gz PackageFileSize: 3.435 MiB