Package: CNORfeeder Version: 1.44.0 Command: rm -rf CNORfeeder.buildbin-libdir && mkdir CNORfeeder.buildbin-libdir && /Users/biocbuild/BBS/utils/build-universal.sh CNORfeeder_1.44.0.tar.gz /Library/Frameworks/R.framework/Resources/bin/R CNORfeeder.buildbin-libdir StartedAt: 2024-10-18 17:51:02 -0400 (Fri, 18 Oct 2024) EndedAt: 2024-10-18 17:51:16 -0400 (Fri, 18 Oct 2024) EllapsedTime: 13.8 seconds RetCode: 0 Status: OK PackageFile: CNORfeeder_1.44.0.tgz PackageFileSize: 2.1 MiB