Package: CNORdt Version: 1.46.0 Command: /Library/Frameworks/R.framework/Resources/bin/R CMD INSTALL CNORdt StartedAt: 2024-06-09 15:18:22 -0400 (Sun, 09 Jun 2024) EndedAt: 2024-06-09 15:18:34 -0400 (Sun, 09 Jun 2024) EllapsedTime: 12.1 seconds RetCode: 0 Status: OK