Package: CNORdt Version: 1.46.0 Command: /Library/Frameworks/R.framework/Resources/bin/R CMD check --install=check:CNORdt.install-out.txt --library=/Library/Frameworks/R.framework/Resources/library --no-vignettes --timings CNORdt_1.46.0.tar.gz StartedAt: 2024-06-10 11:05:30 -0400 (Mon, 10 Jun 2024) EndedAt: 2024-06-10 11:08:15 -0400 (Mon, 10 Jun 2024) EllapsedTime: 164.4 seconds RetCode: 0 Status: OK CheckDir: CNORdt.Rcheck Warnings: 0