Package: CNEr Version: 1.40.0 Command: /home/biocbuild/bbs-3.19-bioc/R/bin/R CMD check --install=check:CNEr.install-out.txt --library=/home/biocbuild/bbs-3.19-bioc/R/site-library --timings CNEr_1.40.0.tar.gz StartedAt: 2024-10-16 22:55:09 -0400 (Wed, 16 Oct 2024) EndedAt: 2024-10-16 23:06:01 -0400 (Wed, 16 Oct 2024) EllapsedTime: 652.4 seconds RetCode: 0 Status: WARNINGS CheckDir: CNEr.Rcheck Warnings: 2