Package: CNAnorm Version: 1.50.0 Command: chmod a+r CNAnorm -R && E:\biocbuild\bbs-3.19-bioc\R\bin\R.exe CMD build --keep-empty-dirs --no-resave-data CNAnorm StartedAt: 2024-10-16 18:17:02 -0400 (Wed, 16 Oct 2024) EndedAt: 2024-10-16 18:17:43 -0400 (Wed, 16 Oct 2024) EllapsedTime: 41.1 seconds RetCode: 0 Status: OK PackageFile: CNAnorm_1.50.0.tar.gz PackageFileSize: 1.412 MiB