Package: CNAnorm Version: 1.50.0 Command: /home/biocbuild/R/R-beta-2024-04-15_r86425/bin/R CMD build --keep-empty-dirs --no-resave-data CNAnorm StartedAt: 2024-05-08 23:24:54 -0000 (Wed, 08 May 2024) EndedAt: 2024-05-08 23:25:15 -0000 (Wed, 08 May 2024) EllapsedTime: 21.0 seconds RetCode: 0 Status: OK PackageFile: CNAnorm_1.50.0.tar.gz PackageFileSize: 1.519 MiB