Package: CNAnorm Version: 1.50.0 Command: /Library/Frameworks/R.framework/Resources/bin/R CMD build --keep-empty-dirs --no-resave-data CNAnorm StartedAt: 2024-10-16 21:52:47 -0400 (Wed, 16 Oct 2024) EndedAt: 2024-10-16 21:53:14 -0400 (Wed, 16 Oct 2024) EllapsedTime: 27.6 seconds RetCode: 0 Status: OK PackageFile: CNAnorm_1.50.0.tar.gz PackageFileSize: 1.521 MiB