Package: CMA Version: 1.62.0 Command: E:\biocbuild\bbs-3.19-bioc\R\bin\R.exe CMD INSTALL CMA StartedAt: 2024-10-16 16:01:34 -0400 (Wed, 16 Oct 2024) EndedAt: 2024-10-16 16:02:17 -0400 (Wed, 16 Oct 2024) EllapsedTime: 42.2 seconds RetCode: 0 Status: OK