Package: CMA Version: 1.62.0 Command: chmod a+r CMA -R && E:\biocbuild\bbs-3.19-bioc\R\bin\R.exe CMD build --keep-empty-dirs --no-resave-data CMA StartedAt: 2024-10-16 18:16:28 -0400 (Wed, 16 Oct 2024) EndedAt: 2024-10-16 18:17:27 -0400 (Wed, 16 Oct 2024) EllapsedTime: 59.0 seconds RetCode: 0 Status: OK PackageFile: CMA_1.62.0.tar.gz PackageFileSize: 1.033 MiB