Package: CMA Version: 1.62.0 Command: /home/biocbuild/bbs-3.19-bioc/R/bin/R CMD INSTALL CMA StartedAt: 2024-10-16 15:49:34 -0400 (Wed, 16 Oct 2024) EndedAt: 2024-10-16 15:49:55 -0400 (Wed, 16 Oct 2024) EllapsedTime: 21.2 seconds RetCode: 0 Status: OK