Package: CMA Version: 1.62.0 Command: /home/biocbuild/bbs-3.19-bioc/R/bin/R CMD check --install=check:CMA.install-out.txt --library=/home/biocbuild/bbs-3.19-bioc/R/site-library --timings CMA_1.62.0.tar.gz StartedAt: 2024-10-16 22:54:09 -0400 (Wed, 16 Oct 2024) EndedAt: 2024-10-16 22:55:12 -0400 (Wed, 16 Oct 2024) EllapsedTime: 62.2 seconds RetCode: 0 Status: OK CheckDir: CMA.Rcheck Warnings: 0