Package: CMA Version: 1.62.0 Command: /Library/Frameworks/R.framework/Resources/bin/R CMD INSTALL CMA StartedAt: 2024-06-09 15:04:11 -0400 (Sun, 09 Jun 2024) EndedAt: 2024-06-09 15:04:25 -0400 (Sun, 09 Jun 2024) EllapsedTime: 13.3 seconds RetCode: 0 Status: OK