Package: CMA Version: 1.62.0 Command: /home/biocbuild/R/R-beta-2024-04-15_r86425/bin/R CMD build --keep-empty-dirs --no-resave-data CMA StartedAt: 2024-05-08 23:24:04 -0000 (Wed, 08 May 2024) EndedAt: 2024-05-08 23:24:48 -0000 (Wed, 08 May 2024) EllapsedTime: 44.1 seconds RetCode: 0 Status: OK PackageFile: CMA_1.62.0.tar.gz PackageFileSize: 1.197 MiB