Package: CMA Version: 1.62.0 Command: rm -rf CMA.buildbin-libdir && mkdir CMA.buildbin-libdir && /Users/biocbuild/BBS/utils/build-universal.sh CMA_1.62.0.tar.gz /Library/Frameworks/R.framework/Resources/bin/R CMA.buildbin-libdir StartedAt: 2024-06-11 10:37:51 -0400 (Tue, 11 Jun 2024) EndedAt: 2024-06-11 10:38:18 -0400 (Tue, 11 Jun 2024) EllapsedTime: 26.8 seconds RetCode: 0 Status: OK PackageFile: CMA_1.62.0.tgz PackageFileSize: 1.887 MiB