Package: CMA Version: 1.62.0 Command: /Library/Frameworks/R.framework/Resources/bin/R CMD build --keep-empty-dirs --no-resave-data CMA StartedAt: 2024-10-16 21:51:09 -0400 (Wed, 16 Oct 2024) EndedAt: 2024-10-16 21:51:46 -0400 (Wed, 16 Oct 2024) EllapsedTime: 37.0 seconds RetCode: 0 Status: OK PackageFile: CMA_1.62.0.tar.gz PackageFileSize: 1.21 MiB