Package: CINdex Version: 1.32.0 Command: /home/biocbuild/bbs-3.19-bioc/R/bin/R CMD check --install=check:CINdex.install-out.txt --library=/home/biocbuild/bbs-3.19-bioc/R/site-library --timings CINdex_1.32.0.tar.gz StartedAt: 2024-10-16 22:46:19 -0400 (Wed, 16 Oct 2024) EndedAt: 2024-10-16 22:52:37 -0400 (Wed, 16 Oct 2024) EllapsedTime: 377.8 seconds RetCode: 0 Status: WARNINGS CheckDir: CINdex.Rcheck Warnings: 1