Package: CIMICE Version: 1.12.0 Command: rm -rf CIMICE.buildbin-libdir && mkdir CIMICE.buildbin-libdir && E:\biocbuild\bbs-3.19-bioc\R\bin\R.exe CMD INSTALL --build --library=CIMICE.buildbin-libdir CIMICE_1.12.0.tar.gz StartedAt: 2024-10-17 07:32:34 -0400 (Thu, 17 Oct 2024) EndedAt: 2024-10-17 07:33:02 -0400 (Thu, 17 Oct 2024) EllapsedTime: 28.3 seconds RetCode: 0 Status: OK PackageFile: CIMICE_1.12.0.zip PackageFileSize: 1.015 MiB