Package: CIMICE Version: 1.12.0 Command: /Library/Frameworks/R.framework/Resources/bin/R CMD INSTALL CIMICE StartedAt: 2024-10-16 16:22:13 -0400 (Wed, 16 Oct 2024) EndedAt: 2024-10-16 16:22:36 -0400 (Wed, 16 Oct 2024) EllapsedTime: 23.4 seconds RetCode: 0 Status: OK