Package: CIMICE Version: 1.12.0 Command: /Library/Frameworks/R.framework/Resources/bin/R CMD build --keep-empty-dirs --no-resave-data CIMICE StartedAt: 2024-10-16 17:57:40 -0400 (Wed, 16 Oct 2024) EndedAt: 2024-10-16 17:58:41 -0400 (Wed, 16 Oct 2024) EllapsedTime: 61.7 seconds RetCode: 0 Status: OK PackageFile: CIMICE_1.12.0.tar.gz PackageFileSize: 1.544 MiB